Workbook

Sheet Instructions

Sheet Supporting Data
A1: Supporting Data
A3: Participation | B3: Breakfast | C3: Lunch | D3: Snack | E3: Meal Equivalents
A4: Enrollment | B4: 745 | C4: 745
A5: Anticipated Participation (%) | B5: 0.57 | C5: 0.6
A6: Ancipated Participation Total | B6: =SUM(B4*B5) -> 424.65 | C6: =SUM(C4*C5) -> 447 | E6: =(B6*0.67)+C6+(Table9[[#This Row],[Snack]]*0.33) -> 731.5155
A9: Meal Cost | B9: Breakfast | C9: Lunch | D9: Snack
A10: Vended | B10: 2.37 | C10: 4.78 | D10: 1.15
A11: Self-Prep | B11: 1.91 | C11: 3.02 | D11: 1
A14: Reimbursement for SY 25-26 | B14: Cost
A15: Breakfast | B15: 2.54
A16: Lunch | B16: 4.85
A17: Snack | B17: 1.3
A18: Commodities | B18: 0.47
A21: SFA Fees for SY 26-27 | B21: Cost
A22: Breakfast | B22: 0.18
A23: Lunch | B23: 0.26
A24: Snack | B24: 0.11
A27: Overhead Fee for SY 26-27 | B27: Cost
A28: CSI | B28: 0
A29: Non-CSI | B29: 5500

Sheet Labor Cost
A1: Labor Cost
A3: Region | B3: Denver | F3: Position | G3: Number of Staff | H3: Hours Per Staff
A4: Min/Max/Average Rate | B4: Full Time Benefits | F4: Kitchen Manager | G4: 1 | H4: =StaffHours[[#This Row],[Number of Staff]]*8 -> 8
A5: Service Type | B5: Vended IW | F5: Food Service Worker | G5: 0 | H5: =StaffHours[[#This Row],[Number of Staff]]*6 -> 0
A6: Total Meals | B6: ='Supporting Data'!E6 -> 731.5155 | F6: Cook | G6: 0 | H6: =StaffHours[[#This Row],[Number of Staff]]*6 -> 0
A7: MPLH | B7: {=IF( B4="Min", INDEX(_xlfn._xlws.FILTER(MPLHTable[Low MPLH],(MPLHTable[Min Meals]<=B6)*(MPLHTable[Max Meals]>=B6)*(MPLHTable[System Type]=B5)),1), INDEX(_xlfn._xlws.FILTER(MPLHTable[High MPLH],(MPLHTable[Min Meals]<=B6)*(MPLHTable[Max Meals]>=B6)*(MPLHTable[System Type]=B5)),1) )} -> 60 | F7: Food Service Worker PT | G7: 1 | H7: =StaffHours[[#This Row],[Number of Staff]]*3 -> 3
A8: Labor Hours Needed Daily | B8: =B6/B7 -> 12.191925 | F8: Cook PT | G8: 0 | H8: =StaffHours[[#This Row],[Number of Staff]]*4 -> 0
A9: Labor Cost Per Day | B9: {=_xlfn.LET( _xlpm.region, B3, _xlpm.mode, B4, _xlpm.pos, StaffHours[Position], _xlpm.totalHours, StaffHours[Number of Staff] * StaffHours[Hours Per Staff], _xlpm.getRate, _xlfn.LAMBDA(_xlpm.p, _xlfn.LET( _xlpm.min, _xlfn.XLOOKUP(1,(Rates4[Region]=_xlpm.region)*(Rates4[Position]=_xlpm.p),Rates4[Min],0), _xlpm.max, _xlfn.XLOOKUP(1,(Rates4[Region]=_xlpm.region)*(Rates4[Position]=_xlpm.p),Rates4[Max],0), _xlpm.avg, _xlfn.XLOOKUP(1,(Rates4[Region]=_xlpm.region)*(Rates4[Position]=_xlpm.p),Rates4[Average],0), _xlpm.benefit, _xlfn.XLOOKUP(1,(Rates4[Region]=_xlpm.region)*(Rates4[Position]=_xlpm.p),Rates4[Full Time Benefits],0), _xlfn.SWITCH( _xlpm.mode, "Min", _xlpm.min, "Max", _xlpm.max, "Average", _xlpm.avg, "Full Time Benefits", _xlpm.benefit, "Invalid Mode" ) ) ), _xlpm.rates, _xlfn.MAP(_xlpm.pos, _xlpm.getRate), SUMPRODUCT(_xlpm.totalHours, _xlpm.rates) )} -> 306.45 | G9: =SUM(StaffHours[Number of Staff]) -> 2 | H9: =SUBTOTAL(109,StaffHours[Hours Per Staff]) -> 11

Sheet Cost Estimator
A1: Cost Estimator
A3: Operation Information
A4: Region | B4: Denver
A5: Operation Type | B5: Vended
A6: CSI vs Non-CSI Authorizer | B6: CSI
A7: Number of Operating Days | B7: 160
A8: Number of Operating Days for Snack
A10: Meal Cost
A11: Average Breakfast Meal Cost Per Day | B11: =_xlfn.XLOOKUP(B5,MealCostTable[Meal Cost],MealCostTable[Breakfast]) -> 2.37
A12: Average Lunch Meal Cost Per Day | B12: =_xlfn.XLOOKUP(B5,MealCostTable[Meal Cost],MealCostTable[Lunch]) -> 4.78
A13: Average Snack Cost Per Day | B13: =_xlfn.XLOOKUP(B5,MealCostTable[Meal Cost],MealCostTable[Snack]) -> 1.15
A14: Total Breakfast Meals Cost Per Day | B14: =(('Supporting Data'!B6)*B11) -> 1006.4205
A15: Total Lunch Meals Cost Per Day | B15: =(('Supporting Data'!C6)*B12) -> 2136.66
A16: Total Snack Meals Cost Per Day | B16: ='Supporting Data'!D6*B8 -> 0
A17: Additional Fee | B17: =_xlfn.XLOOKUP(B6,CSI[Overhead Fee for SY 26-27],CSI[Cost]) -> 0
A19: Labor Cost
A20: Total Per Day | B20: ='Labor Cost'!B9 -> 306.45
A22: CSI Fees (based on anticipated participation)
A23: Breakfast | B23: =('Supporting Data'!B6*'Supporting Data'!B22) -> 76.437
A24: Lunch | B24: ='Supporting Data'!C6*'Supporting Data'!B23 -> 116.22
A25: Snack | B25: ='Supporting Data'!D6*'Supporting Data'!B24 -> 0
A27: Reimbursements Per Meal Served
A28: Breakfast | B28: ='Supporting Data'!B6*'Supporting Data'!B15 -> 1078.611
A29: Lunch | B29: ='Supporting Data'!C6*'Supporting Data'!B16 -> 2167.95
A30: Commodities | B30: ='Supporting Data'!C6*'Supporting Data'!B18 -> 210.09
A31: Snack | B31: ='Supporting Data'!D6*'Supporting Data'!B17 -> 0
A33: Anticipated Cost of the Program
A34: Yearly | B34: =(((B14+B15+B20+B23+B24)*B7)+B17)-((B28+B29+B30)*B7) -> 29685.84
A35: Daily | B35: =(((B14+B15+B20+B23+B24))+(B17/160))-((B28+B29+B30)) -> 185.5365

Sheet Cost Estimator-Actual
A1: Cost Estimator - Actual
A3: Operation Information
A4: Region | B4: Denver
A5: Operation Type | B5: Vended
A6: CSI vs Non-CSI Authorizer | B6: CSI
A7: Number of Operating Days | B7: 160
A8: Number of Snack Operating Days
A10: Meal Cost
A11: Actual Breakfast Meal Cost Per Day | B11: 2.46
A12: Actual Lunch Meal Cost Per Day | B12: 4.76
A13: Average Snack Cost Per Day
A14: Total Breakfast Meals Cost Per Day | B14: =(('Supporting Data'!B6)*B11) -> 1044.639
A15: Total Lunch Meals Cost Per Day | B15: =(('Supporting Data'!C6)*B12) -> 2127.72
A16: Total Snack Meals Cost Per Day | B16: =B13*B8 -> 0
A17: Additional Fee | B17: =_xlfn.XLOOKUP(B6,CSI[Overhead Fee for SY 26-27],CSI[Cost]) -> 0
A19: Labor Cost
A20: Total Per Day | B20: ='Labor Cost'!B9 -> 306.45
A22: CSI Fees (based on anticipated participation)
A23: Breakfast | B23: =('Supporting Data'!B6*'Supporting Data'!B22) -> 76.437
A24: Lunch | B24: ='Supporting Data'!C6*'Supporting Data'!B23 -> 116.22
A25: Snack | B25: ='Supporting Data'!D6*Table11[[#This Row],[Cost]] -> #VALUE!
A27: Reimbursements Per Meal Served
A28: Breakfast | B28: ='Supporting Data'!B6*'Supporting Data'!B15 -> 1078.611
A29: Lunch | B29: ='Supporting Data'!C6*'Supporting Data'!B16 -> 2167.95
A30: Commodities | B30: ='Supporting Data'!C6*'Supporting Data'!B18 -> 210.09
A31: Snack | B31: ='Supporting Data'!D6*'Supporting Data'!B17 -> 0
A33: Anticipated Cost of the Program
A34: Yearly | B34: =(((B14+B15+B20+B23+B24)*160)+B17)-((B28+B29+B30)*B7) -> 34370.4
A35: Daily | B35: =(((B14+B15+B20+B23+B24))+(B17/B7))-((B28+B29+B30)) -> 214.815

Sheet Reference Sheet
B1: Labor Cost Dependent on Region | I1: Meals Per Labor Hour
B2: Region | C2: Position | D2: Min | E2: Max | F2: Average | G2: Full Time Benefits | I2: Min Meals | J2: Max Meals | K2: System Type | L2: Low MPLH | M2: High MPLH
B3: ColoradoSprings | C3: Food Service Worker | D3: 15.54 | E3: 18.57 | F3: 17.055 | G3: =Rates4[[#This Row],[Average]]*1.3 -> 22.1715 | I3: 0 | J3: 100 | K3: Conventional | L3: 8 | M3: 10
B4: Cortez | C4: Food Service Worker | D4: No Data | E4: No Data | F4: No Data | G4: No Data | I4: 0 | J4: 100 | K4: Convenience | L4: 10 | M4: 12
B5: Denver | C5: Food Service Worker | D5: 18.48 | E5: 25.66 | F5: 22.07 | G5: =Rates4[[#This Row],[Average]]*1.3 -> 28.691 | I5: 101 | J5: 150 | K5: Conventional | L5: 9 | M5: 11
B6: FortCollins | C6: Food Service Worker | D6: 17.77 | E6: 19.9 | F6: 18.84 | G6: =Rates4[[#This Row],[Average]]*1.3 -> 24.492 | I6: 101 | J6: 150 | K6: Convenience | L6: 11 | M6: 13
B7: GrandJunction | C7: Food Service Worker | D7: 17.57 | E7: 19.97 | F7: 18.77 | G7: =Rates4[[#This Row],[Average]]*1.3 -> 24.401 | I7: 151 | J7: 200 | K7: Conventional | L7: 10.5 | M7: 12
A8: Select | B8: Durango | C8: Food Service Worker | D8: No Data | E8: No Data | F8: No Data | G8: No Data | I8: 151 | J8: 200 | K8: Convenience | L8: 12 | M8: 14
A9: Food Service Worker PT | B9: Salida | C9: Food Service Worker | D9: 20 | E9: No Data | F9: 20 | G9: =Rates4[[#This Row],[Average]]*1.3 -> 26 | I9: 201 | J9: 250 | K9: Conventional | L9: 12 | M9: 14
A10: Cook PT | B10: SteamboatSprings | C10: Food Service Worker | D10: 19.82 | E10: 28.52 | F10: 24.17 | G10: =Rates4[[#This Row],[Average]]*1.3 -> 31.421 | I10: 201 | J10: 250 | K10: Convenience | L10: 14 | M10: 15
A11: Kitchen Manager | B11: Vail | C11: Food Service Worker | D11: 14.87 | E11: 23.79 | F11: 19.33 | G11: =Rates4[[#This Row],[Average]]*1.3 -> 25.129 | I11: 251 | J11: 300 | K11: Conventional | L11: 13 | M11: 15
A12: Cook | B12: ColoradoSprings | C12: Cook | D12: No Data | E12: No Data | F12: No Data | G12: No Data | I12: 251 | J12: 300 | K12: Convenience | L12: 15 | M12: 16
A13: Food Service Worker | B13: Cortez | C13: Cook | D13: 16 | E13: 24.55 | F13: 20.28 | G13: =Rates4[[#This Row],[Average]]*1.3 -> 26.364 | I13: 301 | J13: 400 | K13: Conventional | L13: 14 | M13: 16
A14: Select | B14: Denver | C14: Cook | D14: 17.86 | E14: 22.02 | F14: 19.94 | G14: =Rates4[[#This Row],[Average]]*1.3 -> 25.922 | I14: 301 | J14: 400 | K14: Convenience | L14: 16 | M14: 18
A15: Min | B15: FortCollins | C15: Cook | D15: 22.64 | E15: 25.36 | F15: 24 | G15: =Rates4[[#This Row],[Average]]*1.3 -> 31.2 | I15: 401 | J15: 500 | K15: Conventional | L15: 14 | M15: 17
A16: Max | B16: GrandJunction | C16: Cook | D16: No Data | E16: No Data | F16: No Data | G16: No Data | I16: 401 | J16: 500 | K16: Convenience | L16: 18 | M16: 19
A17: Average | B17: Durango | C17: Cook | D17: 19.84 | E17: 20.36 | F17: 20.1 | G17: =Rates4[[#This Row],[Average]]*1.3 -> 26.13 | I17: 501 | J17: 600 | K17: Conventional | L17: 15 | M17: 17
A18: Full Time Benefits | B18: Salida | C18: Cook | D18: No Data | E18: No Data | F18: No Data | G18: No Data | I18: 501 | J18: 600 | K18: Convenience | L18: 18 | M18: 19
B19: SteamboatSprings | C19: Cook | D19: 26.2 | E19: 40.61 | F19: 33.41 | G19: =Rates4[[#This Row],[Average]]*1.3 -> 43.433 | I19: 601 | J19: 700 | K19: Conventional | L19: 16 | M19: 18
A20: Select | B20: Vail | C20: Cook | D20: 18.3 | E20: 21.93 | F20: 20.12 | G20: =Rates4[[#This Row],[Average]]*1.3 -> 26.156 | I20: 601 | J20: 700 | K20: Convenience | L20: 19 | M20: 20
A21: ColoradoSprings | B21: ColoradoSprings | C21: Kitchen Manager | D21: 18.47 | E21: 22.07 | F21: 20.27 | G21: =Rates4[[#This Row],[Average]]*1.3 -> 26.351 | I21: 701 | J21: 800 | K21: Conventional | L21: 17 | M21: 19
A22: Cortez | B22: Cortez | C22: Kitchen Manager | D22: 16.58 | E22: 25.13 | F22: 20.85 | G22: =Rates4[[#This Row],[Average]]*1.3 -> 27.105 | I22: 701 | J22: 800 | K22: Convenience | L22: 20 | M22: 22
A23: Denver | B23: Denver | C23: Kitchen Manager | D23: 20.69 | E23: 25.51 | F23: 23.1 | G23: =Rates4[[#This Row],[Average]]*1.3 -> 30.03 | I23: 801 | J23: 2000 | K23: Conventional | L23: 18 | M23: 20
A24: FortCollins | B24: FortCollins | C24: Kitchen Manager | D24: 24.49 | E24: 27.43 | F24: 25.96 | G24: =Rates4[[#This Row],[Average]]*1.3 -> 33.748 | I24: 801 | J24: 2000 | K24: Convenience | L24: 21 | M24: 23
A25: GrandJunction | B25: GrandJunction | C25: Kitchen Manager | D25: 22.25 | E25: 32.57 | F25: 27.41 | G25: =Rates4[[#This Row],[Average]]*1.3 -> 35.633 | I25: 0 | J25: 150 | K25: Vended IW | L25: 35 | M25: 40
A26: Durango | B26: Durango | C26: Kitchen Manager | D26: No Data | E26: No Data | F26: No Data | G26: No Data | I26: 151 | J26: 300 | K26: Vended IW | L26: 40 | M26: 45
A27: Salida | B27: Salida | C27: Kitchen Manager | D27: 23 | E27: 3 | F27: 23 | G27: =Rates4[[#This Row],[Average]]*1.3 -> 29.9 | I27: 301 | J27: 600 | K27: Vended IW | L27: 45 | M27: 55
A28: SteamboatSprings | B28: SteamboatSprings | C28: Kitchen Manager | D28: 3 | E28: 3 | F28: No Data | G28: No Data | I28: 601 | J28: 1000 | K28: Vended IW | L28: 55 | M28: 60
A29: Vail | B29: Vail | C29: Kitchen Manager | D29: 21.36 | E29: 34.18 | F29: 27.77 | G29: =Rates4[[#This Row],[Average]]*1.3 -> 36.101 | I29: 0 | J29: 150 | K29: Vended Bulk | L29: 25 | M29: 30
B30: ColoradoSprings | C30: Food Service Worker PT | D30: 15.54 | E30: 18.57 | F30: 17.055 | G30: 17.06 | I30: 151 | J30: 300 | K30: Vended Bulk | L30: 30 | M30: 35
A31: Select | B31: Cortez | C31: Food Service Worker PT | D31: No Data | E31: No Data | F31: No Data | G31: No Data | I31: 301 | J31: 600 | K31: Vended Bulk | L31: 35 | M31: 40
A32: Conventional | B32: Denver | C32: Food Service Worker PT | D32: 18.48 | E32: 25.66 | F32: 22.07 | G32: 22.07 | I32: 601 | J32: 1000 | K32: Vended Bulk | L32: 37 | M32: 42
A33: Convenience | B33: FortCollins | C33: Food Service Worker PT | D33: 17.77 | E33: 19.9 | F33: 18.84 | G33: 18.84
A34: Vended IW | B34: GrandJunction | C34: Food Service Worker PT | D34: 17.57 | E34: 19.97 | F34: 18.77 | G34: 18.77
A35: Vended Bulk | B35: Durango | C35: Food Service Worker PT | D35: No Data | E35: No Data | F35: No Data | G35: No Data
A36: Select | B36: Salida | C36: Food Service Worker PT | D36: 20 | E36: No Data | F36: 20 | G36: 20
A37: Self-Prep | B37: SteamboatSprings | C37: Food Service Worker PT | D37: 19.82 | E37: 28.52 | F37: 24.17 | G37: 24.17
A38: Vended | B38: Vail | C38: Food Service Worker PT | D38: 14.87 | E38: 23.79 | F38: 19.33 | G38: 19.33
A39: Select | B39: ColoradoSprings | C39: Cook PT | D39: No Data | E39: No Data | F39: No Data | G39: No Data
A40: CSI | B40: Cortez | C40: Cook PT | D40: 16 | E40: 24.55 | F40: 20.28 | G40: 20.28
...

Sheet Equipment Needs
A1: Choosing Equipment Depending on Your Setup
A2: Building your kitchen is based on the needs of the school and meal set up. Your kitchen may require some or all of the listed items.
A3: Warming Kitchen (No Hood) - intended for vended or convenience only items
A4: Warming Cabinet: Keeps prepared food at safe serving temperatures.
A5: Rethermalizing Oven: Heats pre-cooked food efficiently.
A6: Serving Line or Portable Wells: Keeps food hot during service.
A7: Milk Cooler: Maintains milk at proper cold temperatures.
A8: Reach-In Refrigerator: Stores perishable items safely.
A9: Reach-In Freezer: Keeps frozen items at safe temperatures.
A10: 3-Compartment Sink: Wash, rinse, and sanitize dishes.
A11: Ventless Tall Dish Machine: Efficient dishwashing without the need for a ventilation hood.
A13: Full Kitchen (With Hood) - intended for speed-scratch or scratch items
... A25: For more information, reach out to Ilene Agustin at IleneAgustin@csi.state.co.us. She will assist in the formal procurement process and cost.
